BEGIN:VCALENDAR
VERSION:2.0
PRODID:-//Copper Brothel Brewery - ECPv6.15.20//NONSGML v1.0//EN
CALSCALE:GREGORIAN
METHOD:PUBLISH
X-ORIGINAL-URL:https://copperbrothelbrewery.com
X-WR-CALDESC:Events for Copper Brothel Brewery
REFRESH-INTERVAL;VALUE=DURATION:PT1H
X-Robots-Tag:noindex
X-PUBLISHED-TTL:PT1H
BEGIN:VTIMEZONE
TZID:America/Phoenix
BEGIN:STANDARD
TZOFFSETFROM:-0700
TZOFFSETTO:-0700
TZNAME:MST
DTSTART:20240101T000000
END:STANDARD
END:VTIMEZONE
BEGIN:VEVENT
DTSTART;TZID=America/Phoenix:20250809T170000
DTEND;TZID=America/Phoenix:20250809T210000
DTSTAMP:20260423T152408
CREATED:20250606T213635Z
LAST-MODIFIED:20250723T211117Z
UID:448-1754758800-1754773200@copperbrothelbrewery.com
SUMMARY:Luau in the Beer Garden – August 9th
DESCRIPTION:
URL:https://copperbrothelbrewery.com/event/luau-in-the-beer-garden-august-9th/
LOCATION:Copper Brothel Brewery\, 3112 AZ-83\, Sonoita\, AZ\, 85637\, United States
END:VEVENT
END:VCALENDAR