BEGIN:VCALENDAR
VERSION:2.0
PRODID:-//Copper Brothel Brewery - ECPv6.15.20//NONSGML v1.0//EN
CALSCALE:GREGORIAN
METHOD:PUBLISH
X-WR-CALNAME:Copper Brothel Brewery
X-ORIGINAL-URL:https://copperbrothelbrewery.com
X-WR-CALDESC:Events for Copper Brothel Brewery
REFRESH-INTERVAL;VALUE=DURATION:PT1H
X-Robots-Tag:noindex
X-PUBLISHED-TTL:PT1H
BEGIN:VTIMEZONE
TZID:America/Phoenix
BEGIN:STANDARD
TZOFFSETFROM:-0700
TZOFFSETTO:-0700
TZNAME:MST
DTSTART:20250101T000000
END:STANDARD
END:VTIMEZONE
BEGIN:VEVENT
DTSTART;TZID=America/Phoenix:20260207T140000
DTEND;TZID=America/Phoenix:20260207T160000
DTSTAMP:20260421T035242
CREATED:20260203T221354Z
LAST-MODIFIED:20260203T221432Z
UID:618-1770472800-1770480000@copperbrothelbrewery.com
SUMMARY:Drew Cooper Live at Copper Brothel- Saturday\, February 7\, 2026
DESCRIPTION:
URL:https://copperbrothelbrewery.com/event/drew-cooper-live-at-copper-brothel-saturday-february-7-2026/
LOCATION:Copper Brothel Brewery\, 3112 AZ-83\, Sonoita\, AZ\, 85637\, United States
END:VEVENT
END:VCALENDAR