BEGIN:VCALENDAR
VERSION:2.0
PRODID:-//Copper Brothel Brewery - ECPv6.15.20//NONSGML v1.0//EN
CALSCALE:GREGORIAN
METHOD:PUBLISH
X-WR-CALNAME:Copper Brothel Brewery
X-ORIGINAL-URL:https://copperbrothelbrewery.com
X-WR-CALDESC:Events for Copper Brothel Brewery
REFRESH-INTERVAL;VALUE=DURATION:PT1H
X-Robots-Tag:noindex
X-PUBLISHED-TTL:PT1H
BEGIN:VTIMEZONE
TZID:America/Phoenix
BEGIN:STANDARD
TZOFFSETFROM:-0700
TZOFFSETTO:-0700
TZNAME:MST
DTSTART:20240101T000000
END:STANDARD
END:VTIMEZONE
BEGIN:VEVENT
DTSTART;TZID=America/Phoenix:20260905T000000
DTEND;TZID=America/Phoenix:20260907T235959
DTSTAMP:20260421T132222
CREATED:20260401T225451Z
LAST-MODIFIED:20260401T225451Z
UID:675-1788566400-1788825599@copperbrothelbrewery.com
SUMMARY:Rodeo Weekend at Copper Brothel Brewery – September 5-7\, 2026
DESCRIPTION:
URL:https://copperbrothelbrewery.com/event/rodeo-weekend-at-copper-brothel-brewery-sept2026/
LOCATION:Copper Brothel Brewery\, 3112 AZ-83\, Sonoita\, AZ\, 85637\, United States
END:VEVENT
BEGIN:VEVENT
DTSTART;TZID=America/Phoenix:20260815T170000
DTEND;TZID=America/Phoenix:20260815T200000
DTSTAMP:20260421T132222
CREATED:20260401T225012Z
LAST-MODIFIED:20260401T225012Z
UID:673-1786813200-1786824000@copperbrothelbrewery.com
SUMMARY:2nd annual Luau– August 15\, 2026
DESCRIPTION:
URL:https://copperbrothelbrewery.com/event/luau-in-the-beer-garden-2026/
LOCATION:Copper Brothel Brewery\, 3112 AZ-83\, Sonoita\, AZ\, 85637\, United States
END:VEVENT
BEGIN:VEVENT
DTSTART;TZID=America/Phoenix:20260711T180000
DTEND;TZID=America/Phoenix:20260711T210000
DTSTAMP:20260421T132222
CREATED:20260318T225714Z
LAST-MODIFIED:20260318T225714Z
UID:657-1783792800-1783803600@copperbrothelbrewery.com
SUMMARY:Annual Monsoon Party 2026
DESCRIPTION:
URL:https://copperbrothelbrewery.com/event/annual-monsoon-party-2026/
LOCATION:Copper Brothel Brewery\, 3112 AZ-83\, Sonoita\, AZ\, 85637\, United States
END:VEVENT
BEGIN:VEVENT
DTSTART;TZID=America/Phoenix:20260702T180000
DTEND;TZID=America/Phoenix:20260702T200000
DTSTAMP:20260421T132222
CREATED:20260318T225243Z
LAST-MODIFIED:20260325T184415Z
UID:655-1783015200-1783022400@copperbrothelbrewery.com
SUMMARY:Trivia Night - Thursday\, July 2\, 2026
DESCRIPTION:Game Night at Copper Brothel Brewery. \nJoin us on the First Thursday of every month for Trivia Night!
URL:https://copperbrothelbrewery.com/event/trivia-night-thursday-july2-2026/
LOCATION:Copper Brothel Brewery\, 3112 AZ-83\, Sonoita\, AZ\, 85637\, United States
END:VEVENT
BEGIN:VEVENT
DTSTART;TZID=America/Phoenix:20260621T090000
DTEND;TZID=America/Phoenix:20260621T110000
DTSTAMP:20260421T132222
CREATED:20260401T224324Z
LAST-MODIFIED:20260401T224410Z
UID:670-1782032400-1782039600@copperbrothelbrewery.com
SUMMARY:Father’s Day Party: Annual Penny Pints for Pops- Sunday\, May 21\,2026
DESCRIPTION:
URL:https://copperbrothelbrewery.com/event/annual-penny-pints-for-pops/
LOCATION:Copper Brothel Brewery\, 3112 AZ-83\, Sonoita\, AZ\, 85637\, United States
END:VEVENT
BEGIN:VEVENT
DTSTART;TZID=America/Phoenix:20260606T170000
DTEND;TZID=America/Phoenix:20260606T200000
DTSTAMP:20260421T132222
CREATED:20260318T225138Z
LAST-MODIFIED:20260318T225811Z
UID:653-1780765200-1780776000@copperbrothelbrewery.com
SUMMARY:Copper Brothel Brewery’s 8th Anniversary Bash!
DESCRIPTION:
URL:https://copperbrothelbrewery.com/event/copper-brothel-brewerys-8th-anniversary-bash-2/
LOCATION:Copper Brothel Brewery\, 3112 AZ-83\, Sonoita\, AZ\, 85637\, United States
END:VEVENT
BEGIN:VEVENT
DTSTART;TZID=America/Phoenix:20260604T180000
DTEND;TZID=America/Phoenix:20260604T200000
DTSTAMP:20260421T132222
CREATED:20260318T224205Z
LAST-MODIFIED:20260325T184535Z
UID:649-1780596000-1780603200@copperbrothelbrewery.com
SUMMARY:Trivia Night - Thursday\, June 4\, 2026
DESCRIPTION:Game Night at Copper Brothel Brewery. \nJoin us on the First Thursday of every month for Trivia Night!
URL:https://copperbrothelbrewery.com/event/trivia-night-thursday-june4-2026/
LOCATION:Copper Brothel Brewery\, 3112 AZ-83\, Sonoita\, AZ\, 85637\, United States
END:VEVENT
BEGIN:VEVENT
DTSTART;TZID=America/Phoenix:20260510T090000
DTEND;TZID=America/Phoenix:20260510T130000
DTSTAMP:20260421T132222
CREATED:20260318T224527Z
LAST-MODIFIED:20260401T223729Z
UID:651-1778403600-1778418000@copperbrothelbrewery.com
SUMMARY:Mother's Day Party: Momma's & Mimosa's- Sunday\, May 10\, 2026
DESCRIPTION:
URL:https://copperbrothelbrewery.com/event/mothers-day-brunch-mommas-mimosas-2026/
LOCATION:Copper Brothel Brewery\, 3112 AZ-83\, Sonoita\, AZ\, 85637\, United States
END:VEVENT
BEGIN:VEVENT
DTSTART;TZID=America/Phoenix:20260507T180000
DTEND;TZID=America/Phoenix:20260507T200000
DTSTAMP:20260421T132222
CREATED:20260318T223725Z
LAST-MODIFIED:20260325T184521Z
UID:647-1778176800-1778184000@copperbrothelbrewery.com
SUMMARY:Trivia Night - Thursday\, May 7\, 2026
DESCRIPTION:Game Night at Copper Brothel Brewery. \nJoin us on the First Thursday of every month for Trivia Night!
URL:https://copperbrothelbrewery.com/event/trivia-night-thursday-may7-2026/
LOCATION:Copper Brothel Brewery\, 3112 AZ-83\, Sonoita\, AZ\, 85637\, United States
END:VEVENT
BEGIN:VEVENT
DTSTART;TZID=America/Phoenix:20260425T160000
DTEND;TZID=America/Phoenix:20260425T200000
DTSTAMP:20260421T132222
CREATED:20260120T193612Z
LAST-MODIFIED:20260319T172742Z
UID:614-1777132800-1777147200@copperbrothelbrewery.com
SUMMARY:Millennial Mixtape Mashup – Saturday\, April 25\, 2026
DESCRIPTION:
URL:https://copperbrothelbrewery.com/event/millennial-mixtape-mashup-saturday-april-25-2026/
LOCATION:Copper Brothel Brewery\, 3112 AZ-83\, Sonoita\, AZ\, 85637\, United States
END:VEVENT
BEGIN:VEVENT
DTSTART;TZID=America/Phoenix:20260402T180000
DTEND;TZID=America/Phoenix:20260402T200000
DTSTAMP:20260421T132222
CREATED:20260120T192817Z
LAST-MODIFIED:20260325T184458Z
UID:609-1775152800-1775160000@copperbrothelbrewery.com
SUMMARY:Trivia Night - Thursday\, April 2\, 2026
DESCRIPTION:Game Night at Copper Brothel Brewery. \nJoin us on the First Thursday of every month for Game Night!
URL:https://copperbrothelbrewery.com/event/game-night-thursday-apr2-2026-2/
LOCATION:Copper Brothel Brewery\, 3112 AZ-83\, Sonoita\, AZ\, 85637\, United States
END:VEVENT
BEGIN:VEVENT
DTSTART;TZID=America/Phoenix:20260315T100000
DTEND;TZID=America/Phoenix:20260315T130000
DTSTAMP:20260421T132222
CREATED:20260120T193222Z
LAST-MODIFIED:20260210T210425Z
UID:612-1773568800-1773579600@copperbrothelbrewery.com
SUMMARY:Annual St. Paddy’s Day Kegs and Eggs Brunch- Sunday\, March 15\, 2026
DESCRIPTION:
URL:https://copperbrothelbrewery.com/event/st-paddys-day-at-copper-brothel-brewery/
LOCATION:Copper Brothel Brewery\, 3112 AZ-83\, Sonoita\, AZ\, 85637\, United States
END:VEVENT
BEGIN:VEVENT
DTSTART;TZID=America/Phoenix:20260305T180000
DTEND;TZID=America/Phoenix:20260305T200000
DTSTAMP:20260421T132222
CREATED:20251210T224400Z
LAST-MODIFIED:20251210T224426Z
UID:590-1772733600-1772740800@copperbrothelbrewery.com
SUMMARY:Game Night - Thursday\, March 5\, 2026
DESCRIPTION:Game Night at Copper Brothel Brewery. \nJoin us on the First Thursday of every month for Game Night!
URL:https://copperbrothelbrewery.com/event/game-night-thursday-march-5-2026/
LOCATION:Copper Brothel Brewery\, 3112 AZ-83\, Sonoita\, AZ\, 85637\, United States
END:VEVENT
BEGIN:VEVENT
DTSTART;TZID=America/Phoenix:20260214T160000
DTEND;TZID=America/Phoenix:20260214T200000
DTSTAMP:20260421T132222
CREATED:20251210T225214Z
LAST-MODIFIED:20260213T155302Z
UID:594-1771084800-1771099200@copperbrothelbrewery.com
SUMMARY:Valentine's Day at Copper Brothel Brewery
DESCRIPTION:
URL:https://copperbrothelbrewery.com/event/valentines-day-at-copper-brothel-brewery-2026/
LOCATION:Copper Brothel Brewery\, 3112 AZ-83\, Sonoita\, AZ\, 85637\, United States
END:VEVENT
BEGIN:VEVENT
DTSTART;TZID=America/Phoenix:20260208T000000
DTEND;TZID=America/Phoenix:20260208T235959
DTSTAMP:20260421T132222
CREATED:20251210T224945Z
LAST-MODIFIED:20260120T192225Z
UID:592-1770508800-1770595199@copperbrothelbrewery.com
SUMMARY:Super Bowl Party 2026
DESCRIPTION:
URL:https://copperbrothelbrewery.com/event/superbowlparty-at-copperbrothel-2026/
LOCATION:Copper Brothel Brewery\, 3112 AZ-83\, Sonoita\, AZ\, 85637\, United States
END:VEVENT
BEGIN:VEVENT
DTSTART;TZID=America/Phoenix:20260207T140000
DTEND;TZID=America/Phoenix:20260207T160000
DTSTAMP:20260421T132222
CREATED:20260203T221354Z
LAST-MODIFIED:20260203T221432Z
UID:618-1770472800-1770480000@copperbrothelbrewery.com
SUMMARY:Drew Cooper Live at Copper Brothel- Saturday\, February 7\, 2026
DESCRIPTION:
URL:https://copperbrothelbrewery.com/event/drew-cooper-live-at-copper-brothel-saturday-february-7-2026/
LOCATION:Copper Brothel Brewery\, 3112 AZ-83\, Sonoita\, AZ\, 85637\, United States
END:VEVENT
BEGIN:VEVENT
DTSTART;TZID=America/Phoenix:20260205T180000
DTEND;TZID=America/Phoenix:20260205T200000
DTSTAMP:20260421T132222
CREATED:20251112T205215Z
LAST-MODIFIED:20251210T224304Z
UID:547-1770314400-1770321600@copperbrothelbrewery.com
SUMMARY:Game Night - Thursday\, February 5\, 2026
DESCRIPTION:Game Night at Copper Brothel Brewery. \nJoin us on the First Thursday of every month for Game Night!
URL:https://copperbrothelbrewery.com/event/game-night-thursday-february-5-2026/
LOCATION:Copper Brothel Brewery\, 3112 AZ-83\, Sonoita\, AZ\, 85637\, United States
END:VEVENT
BEGIN:VEVENT
DTSTART;TZID=America/Phoenix:20260101T180000
DTEND;TZID=America/Phoenix:20260101T200000
DTSTAMP:20260421T132222
CREATED:20251210T224122Z
LAST-MODIFIED:20251210T224122Z
UID:587-1767290400-1767297600@copperbrothelbrewery.com
SUMMARY:Game Night - Thursday\, January 1\, 2026
DESCRIPTION:Game Night at Copper Brothel Brewery. \nJoin us on the First Thursday of every month for Game Night!
URL:https://copperbrothelbrewery.com/event/game-night-thursday-january-1-2026/
LOCATION:Copper Brothel Brewery\, 3112 AZ-83\, Sonoita\, AZ\, 85637\, United States
END:VEVENT
BEGIN:VEVENT
DTSTART;TZID=America/Phoenix:20260101T110000
DTEND;TZID=America/Phoenix:20260101T130000
DTSTAMP:20260421T132222
CREATED:20251204T190608Z
LAST-MODIFIED:20251222T183543Z
UID:584-1767265200-1767272400@copperbrothelbrewery.com
SUMMARY:New Year’s Day Recovery Party
DESCRIPTION:
URL:https://copperbrothelbrewery.com/event/new-years-day-recovery-party/
LOCATION:Copper Brothel Brewery\, 3112 AZ-83\, Sonoita\, AZ\, 85637\, United States
END:VEVENT
BEGIN:VEVENT
DTSTART;TZID=America/Phoenix:20251214T103000
DTEND;TZID=America/Phoenix:20251214T113000
DTSTAMP:20260421T132222
CREATED:20251112T204638Z
LAST-MODIFIED:20251120T205122Z
UID:545-1765708200-1765711800@copperbrothelbrewery.com
SUMMARY:Brunch Christmas Sing Along- December 14th
DESCRIPTION:
URL:https://copperbrothelbrewery.com/event/brunch-christmas-sing-along/
LOCATION:Copper Brothel Brewery\, 3112 AZ-83\, Sonoita\, AZ\, 85637\, United States
END:VEVENT
BEGIN:VEVENT
DTSTART;TZID=America/Phoenix:20251204T180000
DTEND;TZID=America/Phoenix:20251204T210000
DTSTAMP:20260421T132222
CREATED:20251112T205855Z
LAST-MODIFIED:20251202T171239Z
UID:549-1764871200-1764882000@copperbrothelbrewery.com
SUMMARY:Annual Ugly Sweater Holiday Trivia- Thursday\, December 4\, 2025
DESCRIPTION:
URL:https://copperbrothelbrewery.com/event/annual-ugly-sweater-holiday-trivia-thursday-december-4-2025/
LOCATION:Copper Brothel Brewery\, 3112 AZ-83\, Sonoita\, AZ\, 85637\, United States
END:VEVENT
BEGIN:VEVENT
DTSTART;TZID=America/Phoenix:20251126T170000
DTEND;TZID=America/Phoenix:20251126T200000
DTSTAMP:20260421T132222
CREATED:20250820T173634Z
LAST-MODIFIED:20251023T150547Z
UID:511-1764176400-1764187200@copperbrothelbrewery.com
SUMMARY:Friendsgiving at Copper Brothel Brewery – November 26th
DESCRIPTION:
URL:https://copperbrothelbrewery.com/event/friendsgiving-event-2025/
LOCATION:Copper Brothel Brewery\, 3112 AZ-83\, Sonoita\, AZ\, 85637\, United States
END:VEVENT
BEGIN:VEVENT
DTSTART;TZID=America/Phoenix:20251031T000000
DTEND;TZID=America/Phoenix:20251031T235959
DTSTAMP:20260421T132222
CREATED:20250606T214859Z
LAST-MODIFIED:20251015T194024Z
UID:452-1761868800-1761955199@copperbrothelbrewery.com
SUMMARY:Halloween Party at Copper Brothel Brewery
DESCRIPTION:
URL:https://copperbrothelbrewery.com/event/halloween-party-at-copper-brothel-brewery/
LOCATION:Copper Brothel Brewery\, 3112 AZ-83\, Sonoita\, AZ\, 85637\, United States
END:VEVENT
BEGIN:VEVENT
DTSTART;TZID=America/Phoenix:20250904T180000
DTEND;TZID=America/Phoenix:20250904T200000
DTSTAMP:20260421T132222
CREATED:20240731T193119Z
LAST-MODIFIED:20241107T170423Z
UID:187-1757008800-1757016000@copperbrothelbrewery.com
SUMMARY:Game Night - Thursday September 4th\, 2025
DESCRIPTION:Game Night at Copper Brothel Brewery. \nJoin us on the First Thursday of every month for Game Night!
URL:https://copperbrothelbrewery.com/event/game-night-thursday-september-4th-2025/
LOCATION:Copper Brothel Brewery\, 3112 AZ-83\, Sonoita\, AZ\, 85637\, United States
END:VEVENT
BEGIN:VEVENT
DTSTART;TZID=America/Phoenix:20250830T000000
DTEND;TZID=America/Phoenix:20250901T235959
DTSTAMP:20260421T132222
CREATED:20250606T214559Z
LAST-MODIFIED:20250819T154533Z
UID:450-1756512000-1756771199@copperbrothelbrewery.com
SUMMARY:Rodeo Weekend at Copper Brothel Brewery – August 30 to September 1
DESCRIPTION:
URL:https://copperbrothelbrewery.com/event/rodeo-weekend-at-copper-brothel-brewery2025/
LOCATION:Copper Brothel Brewery\, 3112 AZ-83\, Sonoita\, AZ\, 85637\, United States
END:VEVENT
BEGIN:VEVENT
DTSTART;TZID=America/Phoenix:20250809T170000
DTEND;TZID=America/Phoenix:20250809T210000
DTSTAMP:20260421T132222
CREATED:20250606T213635Z
LAST-MODIFIED:20250723T211117Z
UID:448-1754758800-1754773200@copperbrothelbrewery.com
SUMMARY:Luau in the Beer Garden – August 9th
DESCRIPTION:
URL:https://copperbrothelbrewery.com/event/luau-in-the-beer-garden-august-9th/
LOCATION:Copper Brothel Brewery\, 3112 AZ-83\, Sonoita\, AZ\, 85637\, United States
END:VEVENT
BEGIN:VEVENT
DTSTART;TZID=America/Phoenix:20250807T180000
DTEND;TZID=America/Phoenix:20250807T200000
DTSTAMP:20260421T132222
CREATED:20240731T193043Z
LAST-MODIFIED:20241107T170408Z
UID:185-1754589600-1754596800@copperbrothelbrewery.com
SUMMARY:Game Night - Thursday August 7th\, 2025
DESCRIPTION:Game Night at Copper Brothel Brewery. \nJoin us on the First Thursday of every month for Game Night!
URL:https://copperbrothelbrewery.com/event/game-night-thursday-august-7th-2025/
LOCATION:Copper Brothel Brewery\, 3112 AZ-83\, Sonoita\, AZ\, 85637\, United States
END:VEVENT
BEGIN:VEVENT
DTSTART;TZID=America/Phoenix:20250802T180000
DTEND;TZID=America/Phoenix:20250802T200000
DTSTAMP:20260421T132222
CREATED:20250610T175934Z
LAST-MODIFIED:20250723T174226Z
UID:454-1754157600-1754164800@copperbrothelbrewery.com
SUMMARY:Live Music With The PJ Bidwell Band – August 2nd
DESCRIPTION:
URL:https://copperbrothelbrewery.com/event/live-music-during-the-livestock-show/
LOCATION:Copper Brothel Brewery\, 3112 AZ-83\, Sonoita\, AZ\, 85637\, United States
END:VEVENT
BEGIN:VEVENT
DTSTART;TZID=America/Phoenix:20250712T180000
DTEND;TZID=America/Phoenix:20250712T210000
DTSTAMP:20260421T132222
CREATED:20250522T201305Z
LAST-MODIFIED:20250702T215237Z
UID:428-1752343200-1752354000@copperbrothelbrewery.com
SUMMARY:Annual Monsoon Party 2025
DESCRIPTION:
URL:https://copperbrothelbrewery.com/event/annual-monsoon-party-copper-brothel-brewery/
LOCATION:Copper Brothel Brewery\, 3112 AZ-83\, Sonoita\, AZ\, 85637\, United States
END:VEVENT
BEGIN:VEVENT
DTSTART;TZID=America/Phoenix:20250703T180000
DTEND;TZID=America/Phoenix:20250703T200000
DTSTAMP:20260421T132222
CREATED:20240731T192951Z
LAST-MODIFIED:20241107T170357Z
UID:183-1751565600-1751572800@copperbrothelbrewery.com
SUMMARY:Game Night - Thursday July 3rd\, 2025
DESCRIPTION:Game Night at Copper Brothel Brewery. \nJoin us on the First Thursday of every month for Game Night!
URL:https://copperbrothelbrewery.com/event/game-night-thursday-july-3rd-2025/
LOCATION:Copper Brothel Brewery\, 3112 AZ-83\, Sonoita\, AZ\, 85637\, United States
END:VEVENT
END:VCALENDAR