BEGIN:VCALENDAR
VERSION:2.0
PRODID:-//Copper Brothel Brewery - ECPv6.15.20//NONSGML v1.0//EN
CALSCALE:GREGORIAN
METHOD:PUBLISH
X-ORIGINAL-URL:https://copperbrothelbrewery.com
X-WR-CALDESC:Events for Copper Brothel Brewery
REFRESH-INTERVAL;VALUE=DURATION:PT1H
X-Robots-Tag:noindex
X-PUBLISHED-TTL:PT1H
BEGIN:VTIMEZONE
TZID:America/Phoenix
BEGIN:STANDARD
TZOFFSETFROM:-0700
TZOFFSETTO:-0700
TZNAME:MST
DTSTART:20240101T000000
END:STANDARD
END:VTIMEZONE
BEGIN:VEVENT
DTSTART;TZID=America/Phoenix:20250206T180000
DTEND;TZID=America/Phoenix:20250206T200000
DTSTAMP:20260423T231442
CREATED:20240731T192632Z
LAST-MODIFIED:20241107T170254Z
UID:173-1738864800-1738872000@copperbrothelbrewery.com
SUMMARY:Game Night - Thursday February 6th\, 2025
DESCRIPTION:Game Night at Copper Brothel Brewery. \nJoin us on the First Thursday of every month for Game Night!
URL:https://copperbrothelbrewery.com/event/game-night-thursday-february-6th-2025/
LOCATION:Copper Brothel Brewery\, 3112 AZ-83\, Sonoita\, AZ\, 85637\, United States
END:VEVENT
BEGIN:VEVENT
DTSTART;TZID=America/Phoenix:20250214T170000
DTEND;TZID=America/Phoenix:20250214T200000
DTSTAMP:20260423T231442
CREATED:20250122T174959Z
LAST-MODIFIED:20250127T181522Z
UID:334-1739552400-1739563200@copperbrothelbrewery.com
SUMMARY:Beer My Valentine | Valentine's Day Dinner for 2 at Copper Brothel Brewery
DESCRIPTION:
URL:https://copperbrothelbrewery.com/event/beer-my-valentine-valentines-day-dinner-for-2-at-copper-brothel-brewery/
LOCATION:Copper Brothel Brewery\, 3112 AZ-83\, Sonoita\, AZ\, 85637\, United States
END:VEVENT
BEGIN:VEVENT
DTSTART;TZID=America/Phoenix:20250215T170000
DTEND;TZID=America/Phoenix:20250215T200000
DTSTAMP:20260423T231442
CREATED:20250210T180232Z
LAST-MODIFIED:20250210T181034Z
UID:346-1739638800-1739649600@copperbrothelbrewery.com
SUMMARY:Drew Cooper at Copper Brothel Brewery – FREE Event!
DESCRIPTION:
URL:https://copperbrothelbrewery.com/event/drew-cooper-at-copper-brothel-brewery-free-event/
LOCATION:Copper Brothel Brewery\, 3112 AZ-83\, Sonoita\, AZ\, 85637\, United States
END:VEVENT
END:VCALENDAR