BEGIN:VCALENDAR
VERSION:2.0
PRODID:-//Copper Brothel Brewery - ECPv6.15.20//NONSGML v1.0//EN
CALSCALE:GREGORIAN
METHOD:PUBLISH
X-WR-CALNAME:Copper Brothel Brewery
X-ORIGINAL-URL:https://copperbrothelbrewery.com
X-WR-CALDESC:Events for Copper Brothel Brewery
REFRESH-INTERVAL;VALUE=DURATION:PT1H
X-Robots-Tag:noindex
X-PUBLISHED-TTL:PT1H
BEGIN:VTIMEZONE
TZID:America/Phoenix
BEGIN:STANDARD
TZOFFSETFROM:-0700
TZOFFSETTO:-0700
TZNAME:MST
DTSTART:20240101T000000
END:STANDARD
END:VTIMEZONE
BEGIN:VEVENT
DTSTART;TZID=America/Phoenix:20250501T180000
DTEND;TZID=America/Phoenix:20250501T200000
DTSTAMP:20260423T184413
CREATED:20240731T192853Z
LAST-MODIFIED:20241107T170330Z
UID:179-1746122400-1746129600@copperbrothelbrewery.com
SUMMARY:Game Night - Thursday May 1st\, 2025
DESCRIPTION:Game Night at Copper Brothel Brewery. \nJoin us on the First Thursday of every month for Game Night!
URL:https://copperbrothelbrewery.com/event/game-night-thursday-may-1st-2025/
LOCATION:Copper Brothel Brewery\, 3112 AZ-83\, Sonoita\, AZ\, 85637\, United States
END:VEVENT
BEGIN:VEVENT
DTSTART;TZID=America/Phoenix:20250504T110000
DTEND;TZID=America/Phoenix:20250504T140000
DTSTAMP:20260423T184413
CREATED:20250428T194935Z
LAST-MODIFIED:20250428T194935Z
UID:417-1746356400-1746367200@copperbrothelbrewery.com
SUMMARY:Live Music with Nightlife at Copper Brothel Brewery
DESCRIPTION:
URL:https://copperbrothelbrewery.com/event/live-music-with-nightlife-at-copper-brothel-brewery/
LOCATION:Copper Brothel Brewery\, 3112 AZ-83\, Sonoita\, AZ\, 85637\, United States
END:VEVENT
BEGIN:VEVENT
DTSTART;TZID=America/Phoenix:20250511T090000
DTEND;TZID=America/Phoenix:20250511T120000
DTSTAMP:20260423T184413
CREATED:20250423T203126Z
LAST-MODIFIED:20250423T203938Z
UID:414-1746954000-1746964800@copperbrothelbrewery.com
SUMMARY:Mother's Day Brunch: Momma's & Mimosa's
DESCRIPTION:
URL:https://copperbrothelbrewery.com/event/mothers-day-brunch-mommas-mimosas/
LOCATION:Copper Brothel Brewery\, 3112 AZ-83\, Sonoita\, AZ\, 85637\, United States
END:VEVENT
BEGIN:VEVENT
DTSTART;TZID=America/Phoenix:20250524T170000
DTEND;TZID=America/Phoenix:20250524T200000
DTSTAMP:20260423T184413
CREATED:20250506T152609Z
LAST-MODIFIED:20250506T152850Z
UID:421-1748106000-1748116800@copperbrothelbrewery.com
SUMMARY:Live Music w/ The Cochise Allstars @ Copper Brothel Brewery
DESCRIPTION:
URL:https://copperbrothelbrewery.com/event/live-music-w-the-cochise-allstars/
LOCATION:Copper Brothel Brewery\, 3112 AZ-83\, Sonoita\, AZ\, 85637\, United States
END:VEVENT
END:VCALENDAR